BEGIN:VCALENDAR
VERSION:2.0
PRODID:-//Persona Doll Training - ECPv6.15.20//NONSGML v1.0//EN
CALSCALE:GREGORIAN
METHOD:PUBLISH
X-ORIGINAL-URL:https://personadoll.uk
X-WR-CALDESC:Events for Persona Doll Training
REFRESH-INTERVAL;VALUE=DURATION:PT1H
X-Robots-Tag:noindex
X-PUBLISHED-TTL:PT1H
BEGIN:VTIMEZONE
TZID:Europe/London
BEGIN:DAYLIGHT
TZOFFSETFROM:+0000
TZOFFSETTO:+0100
TZNAME:BST
DTSTART:20220327T010000
END:DAYLIGHT
BEGIN:STANDARD
TZOFFSETFROM:+0100
TZOFFSETTO:+0000
TZNAME:GMT
DTSTART:20221030T010000
END:STANDARD
BEGIN:DAYLIGHT
TZOFFSETFROM:+0000
TZOFFSETTO:+0100
TZNAME:BST
DTSTART:20230326T010000
END:DAYLIGHT
BEGIN:STANDARD
TZOFFSETFROM:+0100
TZOFFSETTO:+0000
TZNAME:GMT
DTSTART:20231029T010000
END:STANDARD
BEGIN:DAYLIGHT
TZOFFSETFROM:+0000
TZOFFSETTO:+0100
TZNAME:BST
DTSTART:20240331T010000
END:DAYLIGHT
BEGIN:STANDARD
TZOFFSETFROM:+0100
TZOFFSETTO:+0000
TZNAME:GMT
DTSTART:20241027T010000
END:STANDARD
END:VTIMEZONE
BEGIN:VEVENT
DTSTART;TZID=Europe/London:20231114T170000
DTEND;TZID=Europe/London:20231128T190000
DTSTAMP:20260424T000528
CREATED:20221128T054032Z
LAST-MODIFIED:20230906T183730Z
UID:9308-1699981200-1701198000@personadoll.uk
SUMMARY:Online Training Course - 46
DESCRIPTION:This ONLINE training course will consist of 3 sessions. Attendees are expected to attend all 3 sessions. \nEach session will be 2 hours long – so\, the whole course is 6 hours altogether. There will be short\, practical tasks to do at home or at work between each session. \nThe course will be delivered live through Zoom. After registering for the course you will then be sent a link to each session \nEach course will train up to 14 people \nPrice: this 6 hour\, 3 session course will cost: £50.00 per person and will include \n\nAttending the course\nCourse written materials such as PowerPoint slides and other useful documents\nAn Attendance Certificate\nOngoing email or Facebook support\nJoining our mailing list for newsletters and updates\n\nSession 1 – Monday 14th November 2023\nSession 2 –  Monday 21st November 2023\nSession 3 – Monday 28th November 2023\n17:00- 19:00 PM UK time (GMT)
URL:https://personadoll.uk/course/online-training-course-46/
LOCATION:Zoom\, United Kingdom
CATEGORIES:Online Training Courses
ORGANIZER;CN="Meeta Johnson":MAILTO:training@personadoll.uk
END:VEVENT
END:VCALENDAR